BEGIN:VCALENDAR
VERSION:2.0
PRODID:-//Graphito Prevention - ECPv6.0.9//NONSGML v1.0//EN
CALSCALE:GREGORIAN
METHOD:PUBLISH
X-WR-CALNAME:Graphito Prevention
X-ORIGINAL-URL:https://graphito-prevention.fr/de
X-WR-CALDESC:évènements pour Graphito Prevention
REFRESH-INTERVAL;VALUE=DURATION:PT1H
X-Robots-Tag:noindex
X-PUBLISHED-TTL:PT1H
BEGIN:VTIMEZONE
TZID:Europe/Paris
BEGIN:DAYLIGHT
TZOFFSETFROM:+0100
TZOFFSETTO:+0200
TZNAME:CEST
DTSTART:20230326T010000
END:DAYLIGHT
BEGIN:STANDARD
TZOFFSETFROM:+0200
TZOFFSETTO:+0100
TZNAME:CET
DTSTART:20231029T010000
END:STANDARD
END:VTIMEZONE
BEGIN:VEVENT
DTSTART;TZID=Europe/Paris:20230523T080000
DTEND;TZID=Europe/Paris:20230525T170000
DTSTAMP:20260424T221426
CREATED:20230613T085837Z
LAST-MODIFIED:20230613T085837Z
UID:19729-1684828800-1685034000@graphito-prevention.fr
SUMMARY:[:fr]PREVENTICA Paris du 23 au 25 mai 2023[:]
DESCRIPTION:Leider ist der Eintrag nur auf Französisch verfügbar.
URL:https://graphito-prevention.fr/de/event/preventica-paris-du-23-au-25-mai-2023/
LOCATION:Paris\, Paris
CATEGORIES:Evenement Graphito
ATTACH;FMTTYPE=image/png:https://graphito-prevention.fr/wp-content/uploads/2023/06/1200x1200-paris.png
END:VEVENT
END:VCALENDAR