BEGIN:VCALENDAR
VERSION:2.0
PRODID:-//Graphito Prevention - ECPv6.0.9//NONSGML v1.0//EN
CALSCALE:GREGORIAN
METHOD:PUBLISH
X-WR-CALNAME:Graphito Prevention
X-ORIGINAL-URL:https://graphito-prevention.fr/de
X-WR-CALDESC:évènements pour Graphito Prevention
REFRESH-INTERVAL;VALUE=DURATION:PT1H
X-Robots-Tag:noindex
X-PUBLISHED-TTL:PT1H
BEGIN:VTIMEZONE
TZID:Europe/Paris
BEGIN:DAYLIGHT
TZOFFSETFROM:+0100
TZOFFSETTO:+0200
TZNAME:CEST
DTSTART:20180325T010000
END:DAYLIGHT
BEGIN:STANDARD
TZOFFSETFROM:+0200
TZOFFSETTO:+0100
TZNAME:CET
DTSTART:20181028T010000
END:STANDARD
END:VTIMEZONE
BEGIN:VEVENT
DTSTART;VALUE=DATE:20181129
DTEND;VALUE=DATE:20181130
DTSTAMP:20260425T214456
CREATED:20180405T102317Z
LAST-MODIFIED:20181005T064840Z
UID:13427-1543449600-1543535999@graphito-prevention.fr
SUMMARY:RDV des préventeurs - Bordeaux
DESCRIPTION:  \n\n  \nProgramme :\n9h30-12h ou 14h-17h : Stratégie prévention et implication positive de la ligne managériale. \n12h30-14h : échanges\, convivialité et cocktail déjeunatoire (sur inscription) \nfin des inscriptions le 23 novembre 2018
URL:https://graphito-prevention.fr/de/event/rdv-des-preventeurs-bordeaux/
LOCATION:Mama Works\, 51\, quai Lawton\, bat G4\, Bordeaux\, 30300\, France
CATEGORIES:rdv des préventeurs
ATTACH;FMTTYPE=image/jpeg:https://graphito-prevention.fr/wp-content/uploads/2018/04/IMG_7407.jpg
ORGANIZER;CN="Graphito%20Pr%C3%A9vention":MAILTO:contact@graphito.fr
END:VEVENT
END:VCALENDAR