BEGIN:VCALENDAR
VERSION:2.0
PRODID:-//Graphito Prevention - ECPv6.0.9//NONSGML v1.0//EN
CALSCALE:GREGORIAN
METHOD:PUBLISH
X-ORIGINAL-URL:https://graphito-prevention.fr/de
X-WR-CALDESC:évènements pour Graphito Prevention
REFRESH-INTERVAL;VALUE=DURATION:PT1H
X-Robots-Tag:noindex
X-PUBLISHED-TTL:PT1H
BEGIN:VTIMEZONE
TZID:Europe/Paris
BEGIN:DAYLIGHT
TZOFFSETFROM:+0100
TZOFFSETTO:+0200
TZNAME:CEST
DTSTART:20190331T010000
END:DAYLIGHT
BEGIN:STANDARD
TZOFFSETFROM:+0200
TZOFFSETTO:+0100
TZNAME:CET
DTSTART:20191027T010000
END:STANDARD
END:VTIMEZONE
BEGIN:VEVENT
DTSTART;TZID=Europe/Paris:20191125T090000
DTEND;TZID=Europe/Paris:20191125T170000
DTSTAMP:20260425T035446
CREATED:20190910T135650Z
LAST-MODIFIED:20190910T135852Z
UID:17385-1574672400-1574701200@graphito-prevention.fr
SUMMARY:[:fr]RDV des préventeurs - Saison 3 - Lille[:]
DESCRIPTION:Leider ist der Eintrag nur auf Französisch verfügbar.
URL:https://graphito-prevention.fr/de/event/rdv-des-preventeurs-saison-3-lille/
LOCATION:Institut Pasteur\, 1\, rue du professeur Calmette\, Lille\, 59000\, France
CATEGORIES:rdv des préventeurs
ATTACH;FMTTYPE=image/jpeg:https://graphito-prevention.fr/wp-content/uploads/2019/09/IMG-20190326-WA0040.jpg
ORGANIZER;CN="Graphito%20Pr%C3%A9vention":MAILTO:contact@graphito.fr
END:VEVENT
END:VCALENDAR