BEGIN:VCALENDAR
VERSION:2.0
PRODID:-//Graphito Prevention - ECPv6.0.9//NONSGML v1.0//EN
CALSCALE:GREGORIAN
METHOD:PUBLISH
X-ORIGINAL-URL:https://graphito-prevention.fr/en
X-WR-CALDESC:évènements pour Graphito Prevention
REFRESH-INTERVAL;VALUE=DURATION:PT1H
X-Robots-Tag:noindex
X-PUBLISHED-TTL:PT1H
BEGIN:VTIMEZONE
TZID:Europe/Paris
BEGIN:DAYLIGHT
TZOFFSETFROM:+0100
TZOFFSETTO:+0200
TZNAME:CEST
DTSTART:20190331T010000
END:DAYLIGHT
BEGIN:STANDARD
TZOFFSETFROM:+0200
TZOFFSETTO:+0100
TZNAME:CET
DTSTART:20191027T010000
END:STANDARD
END:VTIMEZONE
BEGIN:VEVENT
DTSTART;VALUE=DATE:20190521
DTEND;VALUE=DATE:20190524
DTSTAMP:20260425T184939
CREATED:20181126T095631Z
LAST-MODIFIED:20181126T095832Z
UID:15895-1558396800-1558655999@graphito-prevention.fr
SUMMARY:Preventica Paris
DESCRIPTION:Venez rencontrer Graphito Prévention et échanger sur vos projets sécurité lors du salon Préventica.
URL:https://graphito-prevention.fr/en/event/preventica-paris-2019/
CATEGORIES:salon professionnel
ATTACH;FMTTYPE=image/jpeg:https://graphito-prevention.fr/wp-content/uploads/2018/03/IMG-20180529-WA0019.jpg
END:VEVENT
END:VCALENDAR