BEGIN:VCALENDAR
VERSION:2.0
PRODID:-//Graphito Prevention - ECPv6.0.9//NONSGML v1.0//EN
CALSCALE:GREGORIAN
METHOD:PUBLISH
X-WR-CALNAME:Graphito Prevention
X-ORIGINAL-URL:https://graphito-prevention.fr/en
X-WR-CALDESC:évènements pour Graphito Prevention
REFRESH-INTERVAL;VALUE=DURATION:PT1H
X-Robots-Tag:noindex
X-PUBLISHED-TTL:PT1H
BEGIN:VTIMEZONE
TZID:Europe/Paris
BEGIN:DAYLIGHT
TZOFFSETFROM:+0100
TZOFFSETTO:+0200
TZNAME:CEST
DTSTART:20190331T010000
END:DAYLIGHT
BEGIN:STANDARD
TZOFFSETFROM:+0200
TZOFFSETTO:+0100
TZNAME:CET
DTSTART:20191027T010000
END:STANDARD
END:VTIMEZONE
BEGIN:VEVENT
DTSTART;TZID=Europe/Paris:20190613T090000
DTEND;TZID=Europe/Paris:20190613T170000
DTSTAMP:20260425T170919
CREATED:20190129T170739Z
LAST-MODIFIED:20190205T160031Z
UID:16463-1560416400-1560445200@graphito-prevention.fr
SUMMARY:Rendez-vous des préventeurs- saison 3 - Paris
DESCRIPTION:RDV des préventeurs saison 3 : Prenez le contrôle !\nFabrice Reboullet et Michel Ledoux reprennent la route pour vous rencontrer lors de cette nouvelle saison du rendez-vous des préventeurs. \nCette année\, aucune thématique imposée. C’est vous qui choisissez parmi une liste de thèmes ! \nExemples de thèmes : rapport Lecocq\, implication managériale\, vigilance partagée\, addictions\, safety box\, obligation prévention de l’entreprise\,et bien d’autres ! \n\n\n\n\n\n\n\n\n\n\n\n\n\n\n\n\n\n					\n				\n					\n						\n\n					\n				\n					\n						Co- animé par :\n\n\n					\n				\n					\n						Michel Ledoux :  avocat fondateur\, conférencier et chargé d’enseignement spécialisé sur les problématiques sécurité.\n\n\n					\n				\n					\n						Fabrice Reboullet :  conférencier expert en stratégie prévention\, créateur et directeur de Graphito Prévention.\n\n\n					\n				\n					\n						\n\n\n– De 9h30 à 12h30 ou de 14h à 17h (cocktail déjeunatoire sur inscription).\n\n\n\n\névènement réservé aux préventeurs et service prévention – une place par entreprise
URL:https://graphito-prevention.fr/en/event/rendez-vous-des-preventeurs-s3-paris/
LOCATION:OpenMind Kfé\, 110 rue La Boétie\, Paris\, 75008\, France
CATEGORIES:rdv des préventeurs
ATTACH;FMTTYPE=image/jpeg:https://graphito-prevention.fr/wp-content/uploads/2018/04/IMG_7447.jpg
ORGANIZER;CN="Graphito%20Pr%C3%A9vention":MAILTO:contact@graphito.fr
END:VEVENT
END:VCALENDAR